Package: sights Version: 1.35.0 Command: /Library/Frameworks/R.framework/Resources/bin/R CMD build --keep-empty-dirs --no-resave-data sights StartedAt: 2025-05-01 18:24:38 -0400 (Thu, 01 May 2025) EndedAt: 2025-05-01 18:25:18 -0400 (Thu, 01 May 2025) EllapsedTime: 39.9 seconds RetCode: 0 Status: OK PackageFile: sights_1.35.0.tar.gz PackageFileSize: 5.805 MiB