Package: sights Version: 1.33.0 Command: /Library/Frameworks/R.framework/Resources/bin/R CMD check --install=check:sights.install-out.txt --library=/Library/Frameworks/R.framework/Resources/library --no-vignettes --timings sights_1.33.0.tar.gz StartedAt: 2025-02-03 21:58:03 -0500 (Mon, 03 Feb 2025) EndedAt: 2025-02-03 21:58:46 -0500 (Mon, 03 Feb 2025) EllapsedTime: 42.5 seconds RetCode: 0 Status: OK CheckDir: sights.Rcheck Warnings: 0