Package: siggenes Version: 1.81.0 Maintainer: Holger Schwender MaintainerEmail: holger.schw at gmx.de git_url: https://git.bioconductor.org/packages/siggenes git_branch: devel git_last_commit: 60ae981 git_last_commit_date: 2024-10-29 09:21:44 -0400 (Tue, 29 Oct 2024)