Package: sigFeature Version: 1.27.0 Command: /home/biocbuild/R/R/bin/R CMD INSTALL sigFeature StartedAt: 2025-10-23 20:41:37 -0000 (Thu, 23 Oct 2025) EndedAt: 2025-10-23 20:42:12 -0000 (Thu, 23 Oct 2025) EllapsedTime: 34.2 seconds RetCode: 0 Status: OK