Package: sigFeature Version: 1.27.0 Command: /home/biocbuild/R/R/bin/R CMD build --keep-empty-dirs --no-resave-data sigFeature StartedAt: 2025-10-21 03:09:45 -0000 (Tue, 21 Oct 2025) EndedAt: 2025-10-21 03:10:35 -0000 (Tue, 21 Oct 2025) EllapsedTime: 50.0 seconds RetCode: 0 Status: OK PackageFile: sigFeature_1.27.0.tar.gz PackageFileSize: 276.8 KiB