Package: sigFeature Version: 1.27.0 Command: /Library/Frameworks/R.framework/Resources/bin/R CMD check --install=check:sigFeature.install-out.txt --library=/Library/Frameworks/R.framework/Resources/library --no-vignettes --timings sigFeature_1.27.0.tar.gz StartedAt: 2025-05-09 23:35:43 -0400 (Fri, 09 May 2025) EndedAt: 2025-05-09 23:39:21 -0400 (Fri, 09 May 2025) EllapsedTime: 218.6 seconds RetCode: 0 Status: WARNINGS CheckDir: sigFeature.Rcheck Warnings: 1