Package: shinyepico Version: 1.17.0 Command: chmod a+r shinyepico -R && F:\biocbuild\bbs-3.22-bioc\R\bin\R.exe CMD build --keep-empty-dirs --no-resave-data shinyepico StartedAt: 2025-08-14 23:16:28 -0400 (Thu, 14 Aug 2025) EndedAt: 2025-08-14 23:16:53 -0400 (Thu, 14 Aug 2025) EllapsedTime: 25.7 seconds RetCode: 0 Status: OK PackageFile: shinyepico_1.17.0.tar.gz PackageFileSize: 2.248 MiB