Package: shinyepico Version: 1.17.0 Maintainer: Octavio Morante-Palacios MaintainerEmail: octaviompa at gmail.com git_url: https://git.bioconductor.org/packages/shinyepico git_branch: devel git_last_commit: b911db9 git_last_commit_date: 2025-04-15 12:15:09 -0400 (Tue, 15 Apr 2025)