Package: shinybiocloader Version: 0.99.1 Command: /home/biocbuild/R/R/bin/R CMD INSTALL shinybiocloader StartedAt: 2025-09-29 20:37:44 -0000 (Mon, 29 Sep 2025) EndedAt: 2025-09-29 20:38:44 -0000 (Mon, 29 Sep 2025) EllapsedTime: 59.7 seconds RetCode: 0 Status: OK