Package: shinybiocloader Version: 0.99.1 Command: /home/biocbuild/R/R/bin/R CMD build --keep-empty-dirs --no-resave-data shinybiocloader StartedAt: 2025-09-30 03:16:51 -0000 (Tue, 30 Sep 2025) EndedAt: 2025-09-30 03:17:03 -0000 (Tue, 30 Sep 2025) EllapsedTime: 12.0 seconds RetCode: 0 Status: OK PackageFile: shinybiocloader_0.99.1.tar.gz PackageFileSize: 28.65 KiB