Package: shinybiocloader Version: 1.1.0 Command: /home/biocbuild/bbs-3.23-bioc/R/bin/R CMD INSTALL shinybiocloader StartedAt: 2025-11-05 15:14:51 -0500 (Wed, 05 Nov 2025) EndedAt: 2025-11-05 15:15:21 -0500 (Wed, 05 Nov 2025) EllapsedTime: 30.4 seconds RetCode: 0 Status: OK