Package: shinyMethyl Version: 1.45.0 Command: chmod a+r shinyMethyl -R && F:\biocbuild\bbs-3.22-bioc\R\bin\R.exe CMD build --keep-empty-dirs --no-resave-data shinyMethyl StartedAt: 2025-08-14 23:16:29 -0400 (Thu, 14 Aug 2025) EndedAt: 2025-08-14 23:18:11 -0400 (Thu, 14 Aug 2025) EllapsedTime: 102.3 seconds RetCode: 0 Status: OK PackageFile: shinyMethyl_1.45.0.tar.gz PackageFileSize: 7.24 MiB