Package: shinyMethyl Version: 1.45.0 Command: rm -rf shinyMethyl.buildbin-libdir && mkdir shinyMethyl.buildbin-libdir && F:\biocbuild\bbs-3.22-bioc\R\bin\R.exe CMD INSTALL --build --library=shinyMethyl.buildbin-libdir shinyMethyl_1.45.0.tar.gz StartedAt: 2025-08-15 11:19:13 -0400 (Fri, 15 Aug 2025) EndedAt: 2025-08-15 11:20:39 -0400 (Fri, 15 Aug 2025) EllapsedTime: 86.2 seconds RetCode: 0 Status: OK PackageFile: shinyMethyl_1.45.0.zip PackageFileSize: 2.431 MiB