Package: shinyMethyl Version: 1.43.0 Command: /home/biocbuild/R/R/bin/R CMD INSTALL shinyMethyl StartedAt: 2025-01-29 20:35:08 -0000 (Wed, 29 Jan 2025) EndedAt: 2025-01-29 20:36:12 -0000 (Wed, 29 Jan 2025) EllapsedTime: 63.6 seconds RetCode: 0 Status: OK