Package: shinyMethyl Version: 1.43.0 Command: /home/biocbuild/R/R/bin/R CMD check --install=check:shinyMethyl.install-out.txt --library=/home/biocbuild/R/R/site-library --no-vignettes --timings shinyMethyl_1.43.0.tar.gz StartedAt: 2025-01-28 15:18:04 -0000 (Tue, 28 Jan 2025) EndedAt: 2025-01-28 15:25:48 -0000 (Tue, 28 Jan 2025) EllapsedTime: 463.6 seconds RetCode: 0 Status: WARNINGS CheckDir: shinyMethyl.Rcheck Warnings: 5