Package: shinyMethyl Version: 1.43.0 Command: /home/biocbuild/R/R/bin/R CMD build --keep-empty-dirs --no-resave-data shinyMethyl StartedAt: 2025-01-29 02:20:27 -0000 (Wed, 29 Jan 2025) EndedAt: 2025-01-29 02:22:02 -0000 (Wed, 29 Jan 2025) EllapsedTime: 94.1 seconds RetCode: 0 Status: OK PackageFile: shinyMethyl_1.43.0.tar.gz PackageFileSize: 7.305 MiB