Package: shinyMethyl Version: 1.43.0 Command: /Library/Frameworks/R.framework/Resources/bin/R CMD build --keep-empty-dirs --no-resave-data shinyMethyl StartedAt: 2025-02-05 17:39:23 -0500 (Wed, 05 Feb 2025) EndedAt: 2025-02-05 17:39:51 -0500 (Wed, 05 Feb 2025) EllapsedTime: 28.3 seconds RetCode: 0 Status: OK PackageFile: shinyMethyl_1.43.0.tar.gz PackageFileSize: 7.241 MiB