Package: shinyDSP Version: 1.3.0 Command: /home/biocbuild/bbs-3.23-bioc/R/bin/R CMD INSTALL shinyDSP StartedAt: 2025-11-24 15:55:35 -0500 (Mon, 24 Nov 2025) EndedAt: 2025-11-24 15:56:15 -0500 (Mon, 24 Nov 2025) EllapsedTime: 39.2 seconds RetCode: 0 Status: OK