Package: shinyDSP Version: 1.3.0 Command: /home/biocbuild/bbs-3.23-bioc/R/bin/R CMD build --keep-empty-dirs --no-resave-data shinyDSP StartedAt: 2025-11-24 20:04:27 -0500 (Mon, 24 Nov 2025) EndedAt: 2025-11-24 20:09:38 -0500 (Mon, 24 Nov 2025) EllapsedTime: 311.3 seconds RetCode: 0 Status: OK PackageFile: shinyDSP_1.3.0.tar.gz PackageFileSize: 2.679 MiB