Package: shinyDSP Version: 1.1.2 Command: /Library/Frameworks/R.framework/Resources/bin/R CMD INSTALL shinyDSP StartedAt: 2025-10-05 15:48:34 -0400 (Sun, 05 Oct 2025) EndedAt: 2025-10-05 15:49:26 -0400 (Sun, 05 Oct 2025) EllapsedTime: 52.4 seconds RetCode: 0 Status: OK