Package: shinyDSP Version: 1.1.2 Command: /Library/Frameworks/R.framework/Resources/bin/R CMD build --keep-empty-dirs --no-resave-data shinyDSP StartedAt: 2025-10-05 18:59:58 -0400 (Sun, 05 Oct 2025) EndedAt: 2025-10-05 19:06:13 -0400 (Sun, 05 Oct 2025) EllapsedTime: 375.2 seconds RetCode: 0 Status: OK PackageFile: shinyDSP_1.1.2.tar.gz PackageFileSize: 2.656 MiB