Package: shinyDSP Version: 1.1.2 Command: rm -rf shinyDSP.buildbin-libdir && mkdir shinyDSP.buildbin-libdir && /Users/biocbuild/BBS/utils/build-universal.sh shinyDSP_1.1.2.tar.gz /Library/Frameworks/R.framework/Resources/bin/R shinyDSP.buildbin-libdir StartedAt: 2025-10-07 02:34:50 -0400 (Tue, 07 Oct 2025) EndedAt: 2025-10-07 02:35:46 -0400 (Tue, 07 Oct 2025) EllapsedTime: 55.3 seconds RetCode: 0 Status: OK PackageFile: shinyDSP_1.1.2.tgz PackageFileSize: 1.733 MiB