Package: shinyDSP Version: 1.1.2 Command: /Library/Frameworks/R.framework/Resources/bin/R CMD INSTALL shinyDSP StartedAt: 2025-09-30 15:29:48 -0400 (Tue, 30 Sep 2025) EndedAt: 2025-09-30 15:30:09 -0400 (Tue, 30 Sep 2025) EllapsedTime: 20.6 seconds RetCode: 0 Status: OK