Package: shinyDSP Version: 1.1.2 Command: /Library/Frameworks/R.framework/Resources/bin/R CMD build --keep-empty-dirs --no-resave-data shinyDSP StartedAt: 2025-09-30 17:47:52 -0400 (Tue, 30 Sep 2025) EndedAt: 2025-09-30 17:50:22 -0400 (Tue, 30 Sep 2025) EllapsedTime: 149.8 seconds RetCode: 0 Status: OK PackageFile: shinyDSP_1.1.2.tar.gz PackageFileSize: 2.657 MiB