Package: shiny.gosling Version: 1.5.0 Command: /home/biocbuild/bbs-3.22-bioc/R/bin/R CMD build --keep-empty-dirs --no-resave-data --md5 shiny.gosling StartedAt: 2025-10-16 21:06:49 -0400 (Thu, 16 Oct 2025) EndedAt: 2025-10-16 21:07:15 -0400 (Thu, 16 Oct 2025) EllapsedTime: 26.0 seconds RetCode: 1 Status: ERROR PackageFile: None PackageFileSize: NA