Package: sevenbridges Version: 1.39.0 Command: /home/biocbuild/bbs-3.22-bioc/R/bin/R CMD INSTALL sevenbridges StartedAt: 2025-10-17 15:12:23 -0400 (Fri, 17 Oct 2025) EndedAt: 2025-10-17 15:12:47 -0400 (Fri, 17 Oct 2025) EllapsedTime: 24.2 seconds RetCode: 0 Status: OK