Package: sevenbridges Version: 1.39.0 Command: /home/biocbuild/bbs-3.22-bioc/R/bin/R CMD build --keep-empty-dirs --no-resave-data --md5 sevenbridges StartedAt: 2025-10-19 20:03:01 -0400 (Sun, 19 Oct 2025) EndedAt: 2025-10-19 20:04:24 -0400 (Sun, 19 Oct 2025) EllapsedTime: 83.1 seconds RetCode: 0 Status: OK PackageFile: sevenbridges_1.39.0.tar.gz PackageFileSize: 4.661 MiB