Package: sevenC Version: 1.29.1 Command: chmod a+r sevenC -R && F:\biocbuild\bbs-3.22-bioc\R\bin\R.exe CMD build --keep-empty-dirs --no-resave-data sevenC StartedAt: 2025-08-14 23:15:25 -0400 (Thu, 14 Aug 2025) EndedAt: 2025-08-14 23:17:10 -0400 (Thu, 14 Aug 2025) EllapsedTime: 105.6 seconds RetCode: 0 Status: OK PackageFile: sevenC_1.29.1.tar.gz PackageFileSize: 1.921 MiB