Package: sevenC Version: 1.29.1 Command: rm -rf sevenC.buildbin-libdir && mkdir sevenC.buildbin-libdir && F:\biocbuild\bbs-3.22-bioc\R\bin\R.exe CMD INSTALL --build --library=sevenC.buildbin-libdir sevenC_1.29.1.tar.gz StartedAt: 2025-08-15 11:18:46 -0400 (Fri, 15 Aug 2025) EndedAt: 2025-08-15 11:19:44 -0400 (Fri, 15 Aug 2025) EllapsedTime: 57.2 seconds RetCode: 0 Status: OK PackageFile: sevenC_1.29.1.zip PackageFileSize: 2.031 MiB