Package: sevenC Version: 1.27.0 Command: /home/biocbuild/R/R/bin/R CMD INSTALL sevenC StartedAt: 2025-01-29 19:49:27 -0000 (Wed, 29 Jan 2025) EndedAt: 2025-01-29 19:49:58 -0000 (Wed, 29 Jan 2025) EllapsedTime: 30.3 seconds RetCode: 0 Status: OK