Package: sevenC Version: 1.27.0 Command: /Library/Frameworks/R.framework/Resources/bin/R CMD check --install=check:sevenC.install-out.txt --library=/Library/Frameworks/R.framework/Resources/library --no-vignettes --timings sevenC_1.27.0.tar.gz StartedAt: 2025-01-31 21:23:57 -0500 (Fri, 31 Jan 2025) EndedAt: 2025-01-31 21:25:14 -0500 (Fri, 31 Jan 2025) EllapsedTime: 78.0 seconds RetCode: 0 Status: OK CheckDir: sevenC.Rcheck Warnings: 0