Package: sevenC Version: 1.27.0 Command: rm -rf sevenC.buildbin-libdir && mkdir sevenC.buildbin-libdir && /Users/biocbuild/BBS/utils/build-universal.sh sevenC_1.27.0.tar.gz /Library/Frameworks/R.framework/Resources/bin/R sevenC.buildbin-libdir StartedAt: 2025-02-05 22:35:46 -0500 (Wed, 05 Feb 2025) EndedAt: 2025-02-05 22:35:56 -0500 (Wed, 05 Feb 2025) EllapsedTime: 10.3 seconds RetCode: 0 Status: OK PackageFile: sevenC_1.27.0.tgz PackageFileSize: 2.042 MiB