Package: sesame Version: 1.25.3 Command: /home/biocbuild/bbs-3.21-bioc/R/bin/R CMD check --install=check:sesame.install-out.txt --library=/home/biocbuild/bbs-3.21-bioc/R/site-library --timings sesame_1.25.3.tar.gz StartedAt: 2025-02-04 02:42:16 -0500 (Tue, 04 Feb 2025) EndedAt: 2025-02-04 02:59:03 -0500 (Tue, 04 Feb 2025) EllapsedTime: 1007.5 seconds RetCode: 0 Status: OK CheckDir: sesame.Rcheck Warnings: 0