Package: sesame Version: 1.27.0 Command: /Library/Frameworks/R.framework/Resources/bin/R CMD check --install=check:sesame.install-out.txt --library=/Library/Frameworks/R.framework/Resources/library --no-vignettes --timings sesame_1.27.0.tar.gz StartedAt: 2025-04-27 21:22:30 -0400 (Sun, 27 Apr 2025) EndedAt: 2025-04-27 21:27:13 -0400 (Sun, 27 Apr 2025) EllapsedTime: 282.6 seconds RetCode: 0 Status: OK CheckDir: sesame.Rcheck Warnings: 0