Package: sesame Version: 1.25.3 Command: /Library/Frameworks/R.framework/Resources/bin/R CMD build --keep-empty-dirs --no-resave-data sesame StartedAt: 2025-02-03 18:12:41 -0500 (Mon, 03 Feb 2025) EndedAt: 2025-02-03 18:14:51 -0500 (Mon, 03 Feb 2025) EllapsedTime: 130.5 seconds RetCode: 0 Status: OK PackageFile: sesame_1.25.3.tar.gz PackageFileSize: 16.11 MiB