Package: seqsetvis Version: 1.29.1 Command: /home/biocbuild/bbs-3.22-bioc/R/bin/R CMD INSTALL seqsetvis StartedAt: 2025-10-02 15:34:07 -0400 (Thu, 02 Oct 2025) EndedAt: 2025-10-02 15:34:44 -0400 (Thu, 02 Oct 2025) EllapsedTime: 37.1 seconds RetCode: 0 Status: OK