Package: seqsetvis Version: 1.29.1 Command: /home/biocbuild/bbs-3.22-bioc/R/bin/R CMD build --keep-empty-dirs --no-resave-data --md5 seqsetvis StartedAt: 2025-10-02 20:02:03 -0400 (Thu, 02 Oct 2025) EndedAt: 2025-10-02 20:03:37 -0400 (Thu, 02 Oct 2025) EllapsedTime: 94.1 seconds RetCode: 0 Status: OK PackageFile: seqsetvis_1.29.1.tar.gz PackageFileSize: 2.056 MiB