Package: seqcombo Version: 1.31.0 Command: rm -rf seqcombo.buildbin-libdir && mkdir seqcombo.buildbin-libdir && F:\biocbuild\bbs-3.22-bioc\R\bin\R.exe CMD INSTALL --build --library=seqcombo.buildbin-libdir seqcombo_1.31.0.tar.gz StartedAt: 2025-08-15 11:17:57 -0400 (Fri, 15 Aug 2025) EndedAt: 2025-08-15 11:18:11 -0400 (Fri, 15 Aug 2025) EllapsedTime: 13.4 seconds RetCode: 0 Status: OK PackageFile: seqcombo_1.31.0.zip PackageFileSize: 343.9 KiB