Package: seqcombo Version: 1.29.0 Command: /home/biocbuild/bbs-3.21-bioc/R/bin/R CMD INSTALL seqcombo StartedAt: 2025-02-02 15:25:03 -0500 (Sun, 02 Feb 2025) EndedAt: 2025-02-02 15:25:07 -0500 (Sun, 02 Feb 2025) EllapsedTime: 3.6 seconds RetCode: 0 Status: OK