Package: seqTools Version: 1.43.0 Command: /Library/Frameworks/R.framework/Resources/bin/R CMD INSTALL seqTools StartedAt: 2025-05-06 15:52:51 -0400 (Tue, 06 May 2025) EndedAt: 2025-05-06 15:52:51 -0400 (Tue, 06 May 2025) EllapsedTime: 0.3 seconds RetCode: 1 Status: ERROR