Package: seqTools Version: 1.43.0 Command: /Library/Frameworks/R.framework/Resources/bin/R CMD INSTALL seqTools StartedAt: 2025-05-08 15:36:09 -0400 (Thu, 08 May 2025) EndedAt: 2025-05-08 15:36:09 -0400 (Thu, 08 May 2025) EllapsedTime: 0.1 seconds RetCode: 1 Status: ERROR