Package: seqPattern Version: 1.41.0 Command: /home/biocbuild/R/R/bin/R CMD INSTALL seqPattern StartedAt: 2025-10-16 21:35:15 -0000 (Thu, 16 Oct 2025) EndedAt: 2025-10-16 21:35:29 -0000 (Thu, 16 Oct 2025) EllapsedTime: 14.6 seconds RetCode: 0 Status: OK