Package: seqPattern Version: 1.39.0 Command: chmod a+r seqPattern -R && E:\biocbuild\bbs-3.21-bioc\R\bin\R.exe CMD build --keep-empty-dirs --no-resave-data seqPattern StartedAt: 2025-01-10 21:33:14 -0500 (Fri, 10 Jan 2025) EndedAt: 2025-01-10 21:34:19 -0500 (Fri, 10 Jan 2025) EllapsedTime: 65.5 seconds RetCode: 0 Status: OK PackageFile: seqPattern_1.39.0.tar.gz PackageFileSize: 5.371 MiB