Package: seqPattern Version: 1.41.0 Command: /home/biocbuild/bbs-3.22-bioc/R/bin/R CMD check --install=check:seqPattern.install-out.txt --library=/home/biocbuild/bbs-3.22-bioc/R/site-library --timings seqPattern_1.41.0.tar.gz StartedAt: 2025-10-28 04:04:26 -0400 (Tue, 28 Oct 2025) EndedAt: 2025-10-28 04:06:44 -0400 (Tue, 28 Oct 2025) EllapsedTime: 138.2 seconds RetCode: 0 Status: OK CheckDir: seqPattern.Rcheck Warnings: 0