Package: seqLogo Version: 1.73.0 Command: /Library/Frameworks/R.framework/Resources/bin/R CMD INSTALL seqLogo StartedAt: 2025-02-16 15:02:15 -0500 (Sun, 16 Feb 2025) EndedAt: 2025-02-16 15:02:21 -0500 (Sun, 16 Feb 2025) EllapsedTime: 5.7 seconds RetCode: 0 Status: OK