Package: seqCAT Version: 1.29.0 Command: rm -rf seqCAT.buildbin-libdir && mkdir seqCAT.buildbin-libdir && /Users/biocbuild/BBS/utils/build-universal.sh seqCAT_1.29.0.tar.gz /Library/Frameworks/R.framework/Resources/bin/R seqCAT.buildbin-libdir StartedAt: 2025-02-04 00:56:10 -0500 (Tue, 04 Feb 2025) EndedAt: 2025-02-04 00:57:02 -0500 (Tue, 04 Feb 2025) EllapsedTime: 52.0 seconds RetCode: 0 Status: OK PackageFile: seqCAT_1.29.0.tgz PackageFileSize: 1.959 MiB