Package: seqCAT Version: 1.29.0 Command: /Library/Frameworks/R.framework/Resources/bin/R CMD INSTALL seqCAT StartedAt: 2025-02-03 16:01:18 -0500 (Mon, 03 Feb 2025) EndedAt: 2025-02-03 16:01:33 -0500 (Mon, 03 Feb 2025) EllapsedTime: 14.9 seconds RetCode: 0 Status: OK