Package: seqArchRplus Version: 1.9.1 Command: chmod a+r seqArchRplus -R && F:\biocbuild\bbs-3.22-bioc\R\bin\R.exe CMD build --keep-empty-dirs --no-resave-data seqArchRplus StartedAt: 2025-08-14 23:13:27 -0400 (Thu, 14 Aug 2025) EndedAt: 2025-08-14 23:17:19 -0400 (Thu, 14 Aug 2025) EllapsedTime: 231.5 seconds RetCode: 0 Status: OK PackageFile: seqArchRplus_1.9.1.tar.gz PackageFileSize: 1.765 MiB