Package: seqArchR Version: 1.13.0 Command: /home/biocbuild/bbs-3.22-bioc/R/bin/R CMD INSTALL seqArchR StartedAt: 2025-09-30 15:23:48 -0400 (Tue, 30 Sep 2025) EndedAt: 2025-09-30 15:24:05 -0400 (Tue, 30 Sep 2025) EllapsedTime: 16.5 seconds RetCode: 0 Status: OK