Package: seq2pathway Version: 1.41.0 Command: /home/biocbuild/bbs-3.22-bioc/R/bin/R CMD INSTALL seq2pathway StartedAt: 2025-10-20 15:46:26 -0400 (Mon, 20 Oct 2025) EndedAt: 2025-10-20 15:46:49 -0400 (Mon, 20 Oct 2025) EllapsedTime: 23.0 seconds RetCode: 0 Status: OK